BEGIN:VCALENDAR
VERSION:2.0
PRODID:-//Tukios.com/
BEGIN:VEVENT
UID:16e6d254-ca6b-4625-9476-d52e1daac372@www.cotterfuneralhome.com
DTSTAMP:20260425T025600Z
DTSTART:20260429T233000Z
DTEND:20260430T003000Z
SUMMARY:Memorial Service
DESCRIPTION:
URL:https://www.cotterfuneralhome.com/obituaries/valentina-feofanova
LOCATION:House of Prayer Church 816 3rd St  Green Bay WI 54304
GEO:44.51168;-88.0317868
END:VEVENT
END:VCALENDAR