BEGIN:VCALENDAR
VERSION:2.0
PRODID:-//Tukios.com/
BEGIN:VEVENT
UID:41cad13d-6b7c-4005-a6c8-81185dc46b0d@www.cotterfuneralhome.com
DTSTAMP:20260423T182000Z
DTSTART:20260424T170000Z
DTEND:20260424T180000Z
SUMMARY:Funeral Service
DESCRIPTION:
URL:https://www.cotterfuneralhome.com/obituaries/michael-kraynik
LOCATION: 536 County Road R  Denmark WI 54208
GEO:44.3490413;-87.8374506
END:VEVENT
END:VCALENDAR