BEGIN:VCALENDAR
VERSION:2.0
PRODID:-//Tukios.com/
BEGIN:VEVENT
UID:1070c6e1-42d7-4e2c-8698-0e2ba55ccdaa@www.cotterfuneralhome.com
DTSTAMP:20260423T181827Z
DTSTART:20260424T150000Z
DTEND:20260424T160000Z
SUMMARY:Visitation
DESCRIPTION:
URL:https://www.cotterfuneralhome.com/obituaries/michael-kraynik
LOCATION: 536 County Road R  Denmark WI 54208
GEO:44.3490413;-87.8374506
END:VEVENT
END:VCALENDAR