BEGIN:VCALENDAR
VERSION:2.0
PRODID:-//Tukios.com/
BEGIN:VEVENT
UID:7ce58035-c56c-4dfa-94f2-3536bc0babd4@www.cotterfuneralhome.com
DTSTAMP:20260420T195912Z
DTSTART:20260424T160000Z
DTEND:20260424T170000Z
SUMMARY:Mass
DESCRIPTION:
URL:https://www.cotterfuneralhome.com/obituaries/mary-donarski
LOCATION:St. Matthew Catholic Church 130 Saint Matthews Street  Allouez 
	WI 54301
GEO:44.4751936;-88.0265958
END:VEVENT
END:VCALENDAR