BEGIN:VCALENDAR
VERSION:2.0
PRODID:-//Tukios.com/
BEGIN:VEVENT
UID:ade5891a-ea50-45d8-a052-7b3b87263bea@www.cotterfuneralhome.com
DTSTAMP:20260420T200823Z
DTSTART:20260424T143000Z
DTEND:20260424T154500Z
SUMMARY:Visitation
DESCRIPTION:
URL:https://www.cotterfuneralhome.com/obituaries/mary-donarski
LOCATION:St. Matthew Catholic Church 130 Saint Matthews Street  Allouez 
	WI 54301
GEO:44.4751936;-88.0265958
END:VEVENT
END:VCALENDAR