BEGIN:VCALENDAR
VERSION:2.0
PRODID:-//Tukios.com/
BEGIN:VEVENT
UID:7c2b1b66-0ba3-4e34-88a6-ea5f665f5a23@www.cotterfuneralhome.com
DTSTAMP:20260421T204833Z
DTSTART:20260427T160000Z
DTEND:20260427T170000Z
SUMMARY:Mass
DESCRIPTION:
URL:https://www.cotterfuneralhome.com/obituaries/edwin-duckart
LOCATION: 18228 County Road R  Denmark WI 54208
GEO:44.317972;-87.7770562
END:VEVENT
END:VCALENDAR