BEGIN:VCALENDAR
VERSION:2.0
PRODID:-//Tukios.com/
BEGIN:VEVENT
UID:eacb962d-ad2a-4a3e-bebb-3c3f9769394e@www.cotterfuneralhome.com
DTSTAMP:20260421T204309Z
DTSTART:20260427T140000Z
DTEND:20260427T153000Z
SUMMARY:Visitation
DESCRIPTION:
URL:https://www.cotterfuneralhome.com/obituaries/edwin-duckart
LOCATION: 18228 County Road R  Denmark WI 54208
GEO:44.317972;-87.7770562
END:VEVENT
END:VCALENDAR