BEGIN:VCALENDAR
VERSION:2.0
PRODID:-//Tukios.com/
BEGIN:VEVENT
UID:f2f8b2fc-6357-47fd-ae25-1d8f3f33c000@www.cotterfuneralhome.com
DTSTAMP:20260421T204833Z
DTSTART:20260426T233000Z
DTEND:20260427T003000Z
SUMMARY:Prayer Service
DESCRIPTION:
URL:https://www.cotterfuneralhome.com/obituaries/edwin-duckart
LOCATION: 536 County Road R  Denmark WI 54208
GEO:44.3490413;-87.8374506
END:VEVENT
END:VCALENDAR