BEGIN:VCALENDAR
VERSION:2.0
PRODID:-//Tukios.com/
BEGIN:VEVENT
UID:213917ce-f719-4240-a8a1-e8655a832b70@www.cotterfuneralhome.com
DTSTAMP:20260421T204350Z
DTSTART:20260426T200000Z
DTEND:20260427T000000Z
SUMMARY:Visitation
DESCRIPTION:
URL:https://www.cotterfuneralhome.com/obituaries/edwin-duckart
LOCATION: 536 County Road R  Denmark WI 54208
GEO:44.3490413;-87.8374506
END:VEVENT
END:VCALENDAR